Workbook

Sheet СВОД
E1: Утверждено
E2: Постановлением Центральной комиссии
E3: по выборам и проведению референдумов
E4: Кыргызской Республики
E5: от 26. 09. 2026 года № 107
C7: СВОД СМЕТЫ
B8: расходов на подготовку и проведение выборов Президента Кыргызской Республики
C9: назначенных на 27 января 2027 года
C10: Количество ТИК-56
C11: Количество членов ТИК- 672
C12: Количество УИК-2653: из них ДГ-40, за рубежом-100 (МИД)
C13: Количество членов УИК- 26819
C14: Количество привлеченных операторов УИК-1609
C15: Количество привлеченных специлист. ГТП (техподдержка )- 600
B17: Уровни эконом классиф | C17: Наименование статей | D17: Всего расходов | E17: ЦИК КР | F17: По областям | G17: МИД | H17: *Смета расходов на второй тур
B20: 2111 | C20: Зарплата | D20: =E20+F20+G20+H20 -> 426992500 | E20: =[1]СВОД!$O$22 -> 140308000 | F20: =[1]СВОД!$L$22 -> 201134000 | G20: =[1]СВОД!$N$22 -> 152000 | H20: =[1]СВОД!$M$22 -> 85398500
B21: 2121 | C21: Отчисления в Соцфонд 17,25% | D21: =E21+F21+G21+H21 -> 73651400 | E21: =[1]СВОД!$O$23 -> 24202700 | F21: =[1]СВОД!$L$23 -> 34694600 | G21: =[1]СВОД!$N$23 -> 24000 | H21: =[1]СВОД!$M$23 -> 14730100
B22: 2211 | C22: Расходы на служебные поездки | D22: =E22+F22+G22+H22 -> 60198500 | E22: =[1]СВОД!$O$24 -> 10000000 | F22: =[1]СВОД!$L$24 -> 1423800 | G22: =[1]СВОД!$N$24 -> 36735000 | H22: =[1]СВОД!$M$24 -> 12039700
B23: 2212 | C23: Услуги связи | D23: =E23+F23+G23+H23 -> 19743800 | E23: =[1]СВОД!$O$25 -> 15716000 | F23: =[1]СВОД!$L$25 -> 0 | G23: =[1]СВОД!$N$25 -> 79000 | H23: =[1]СВОД!$M$25 -> 3948800
B24: 2213 | C24: Арендная плата | D24: =E24+F24+G24+H24 -> 6943800 | E24: =[1]СВОД!$O$26 -> 2000000 | F24: =[1]СВОД!$L$26 -> 0 | G24: =[1]СВОД!$N$26 -> 3555000 | H24: =[1]СВОД!$M$26 -> 1388800
B25: 2214 | C25: Транспортные расходы | D25: =E25+F25+G25+H25 -> 46506000 | E25: =[1]СВОД!$O$27 -> 3000000 | F25: =[1]СВОД!$L$27 -> 31302700 | G25: =[1]СВОД!$N$27 -> 2900000 | H25: =[1]СВОД!$M$27 -> 9303300
B26: 2215 | C26: Приобретение прочие расходы и услуги | D26: =E26+F26+G26+H26 -> 419586500 | E26: =[1]СВОД!$O$28 -> 220484000 | F26: =[1]СВОД!$L$28 -> 108087200 | G26: =[1]СВОД!$N$28 -> 7100000 | H26: =[1]СВОД!$M$28 -> 83915300
B27: 2222 | C27: Приобретение предметов и материалов для текущих хоз целей | D27: =E27+F27+G27+H27 -> 97627500 | E27: =[1]СВОД!$O$29 -> 75447000 | F27: 0 | G27: =[1]СВОД!$N$29 -> 2655000 | H27: =[1]СВОД!$M$29 -> 19525500
B28: 2225 | C28: Приобретение услуг охраны | D28: =E28+F28+G28+H28 -> 0 | F28: 0
B29: 2231 | C29: Коммунальные услуги | D29: =E29+F29+G29+H29 -> 0 | F29: 0
B30: 3112 | C30: Машины и оборудование | D30: =E30+F30+G30+H30 -> 48750000 | E30: =[1]СВОД!$O$32 -> 39000000 | F30: 0 | H30: =[1]СВОД!$M$32 -> 9750000
C31: Итого: | D31: =SUM(D20:D30) -> 1200000000 | E31: =SUM(E20:E30) -> 530157700 | F31: =SUM(F20:F30) -> 376642300 | G31: =SUM(G20:G30) -> 53200000 | H31: =SUM(H20:H30) -> 240000000
B32: Примечание* Смета расходов на проведение повторного голосования по выборам Президента Кыргызской Республики (Согласно статье 56 Конституционного закона КР)
B33: Завдующая отделом планирования учета,
B34: отчетности | F34: Г. Дюшембаева
